BEGIN:VCALENDAR
VERSION:2.0
PRODID:-//wp-events-plugin.com//7.2.3.1//EN
TZID:Europe/Zurich
X-WR-TIMEZONE:Europe/Zurich
BEGIN:VEVENT
UID:9@haeutligen.ch
DTSTART;TZID=Europe/Zurich:20251122T000000
DTEND;TZID=Europe/Zurich:20251123T000000
DTSTAMP:20251014T151327Z
URL:https://www.haeutligen.ch/events/adventsmaerit-quer-duers-dorf-haeutli
 gen/
SUMMARY:Adventsmärit quer dürs Dorf Häutligen
DESCRIPTION:Flyer Adventsmärit 2025\n\nAuch dieses Jahr findet unser Adven
 tsmärit wieder quer durch unser schönes Dorf in Häutligen statt.\n\nSam
 stag 22.11.2025 14:00 – 21:00 Uhr\nSonntag 23.11.2025 10:00 – 16:00 Uh
 r\n\nGeniessen Sie die schönen Stände auf dem Märitweg\, der bequem zu 
 Fuss auch mit dem Kinderwagen gut erreichbar ist.\n\nAlle Stände befinden
  sich mehrheitlich entlang der Strasse &amp\; wie gewohnt im Schulhaus!\n\
 nAuch das beliebte Märitbeizli ist wieder mit dabei..mit Chäsbrägu..!\n
 \nWir alle freuen uns auf euch!\n\nAussteller:\n\n1. Märitbeizli – mit 
 Ärbsmues\, Chäsbrägu &amp\; Schwinswürstli\n2. Maggie Liechti &amp\; B
 eatrice Leibundgut – Keramik &amp\; Tonwaren\n3. Daniela Heuberger – N
 udelwerkstatt – selbstgemachte BIO-Teigwaren\n4. Esther Gäumann – Gen
 ähtes &amp\; Besticktes &amp\; gezeichnete Karten\n5. Dona Schäfer – G
 estricktes\, Gehäkeltes und Kunstgestricktes\n6. Sandra Linder – genäh
 te Taschen\n7. Schule Häutligen – Selbst gebasteltes &amp\; Cake-Bar\n8
 . Nicole Graf – Adventskränze\n9. Rosemarie Zaugg – selbstgegossene K
 erzengeschenke\n10. Fam. Gobeli – Alpkäse &amp\; Würste\n11. Marlis vo
 n Allmen – Kräuter &amp\; Räucherwaren\n12. Bruno Gäumann – Holzsku
 lpturen\n13. Reformierte Kirchgemeinde Konolfingen – winterliche Fotobox
 \n14. Casa di mattoni – Essigmanufaktur\, Olivenöl &amp\; Gewürze\n15.
  Andrea Gäumann – gestempelte Karten\, Schmuck &amp\; Babygeschenke\n16
 . Beatrice Geissbühler – Holzschnitzereien – Nur Samstag\n16. Karin &
 amp\; Martin Anliker – Stein- &amp\; Schwemmholz Kreationen – Nur Sonn
 tag\n17. Erich Kämpf – Holzsachen\n18. Brigitte Burri – Beton &amp\; 
 Adventskalender\n19. Manuela Nafzger – Plottermomente – beplottete Win
 dlichter &amp\; Textilien\n20. Dorfverein Häutligen – Bratwurst to Go\n
 21. Marianne Graf – Läbchueche\, Wiehnachtsgüetzi\, Ringli\, Züpfe…
 \n\nLokation: Im Schulhaus und quer dürs Dorf Häutligen\n\nPLZ: 3510\n\n
 Ort: Häutligen\n\nHinweis zur Parkplatzsituation beim Adventsmärit\n\n\n
 Liebe Besucherinnen und Besucher\,\nwir vom Adventsmärit-Team möchten Si
 e darauf hinweisen\, dass die Parkplatzsituation rund um den Veranstaltung
 sort leider begrenzt ist. Es stehen nur wenige Parkplätze beim Schulhaus 
 sowie am Ortseingang von Häutligen (von Münsingen/Tägertschi her kommen
 d) zur Verfügung. Wir bitten um Ihr Verständnis.\nWir empfehlen den Einw
 ohnerinnen und Einwohnern von Häutligen\, dass Bekannte oder Besuchende g
 egebenenfalls bei Ihnen zuhause parkieren.\nDies hilft uns\, die Parksitua
 tion für alle angenehmer zu gestalten und den Ablauf des Adventsmärits z
 u erleichtern.\nWir danken Ihnen für Ihre Kooperation und freuen uns auf 
 Ihren Besuch!\nWebseite: https://adventsmaerithaeutligen.jimdofree.com/\n\
 n\n&nbsp\;
END:VEVENT
BEGIN:VTIMEZONE
TZID:Europe/Zurich
X-LIC-LOCATION:Europe/Zurich
BEGIN:STANDARD
DTSTART:20251026T020000
TZOFFSETFROM:+0200
TZOFFSETTO:+0100
TZNAME:CET
END:STANDARD
END:VTIMEZONE
END:VCALENDAR